BEGIN:VCALENDAR
VERSION:2.0
CALSCALE:GREGORIAN
PRODID:adamgibbons/ics
METHOD:PUBLISH
X-PUBLISHED-TTL:PT1H
BEGIN:VEVENT
UID:259@gancio.invegendo.org
SUMMARY:Corteo antifascista
DTSTAMP:20260420T170308Z
DTSTART:20260424T153000Z
DESCRIPTION:Corteo antifascista\n\nConcentramento 17:30 Piazza Carlo Giulia
	ni\n\nIl Vento del Nord fischia ancora!
URL:https://gancio.invegendo.org/event/corteo-antifascista-1
GEO:44.4037;8.95429
LOCATION:Piazza Alimonda - Piazza Gaetano Alimonda\, Foce\, Medio Levante\,
	 Genova\, Liguria\, 16129\, Italia
STATUS:CONFIRMED
CATEGORIES:corteo
X-ALT-DESC;FMTTYPE=text/html:<p>Corteo antifascista</p><p>Concentramento 17
	:30 Piazza Carlo Giuliani</p><p>Il Vento del Nord fischia ancora!</p>
BEGIN:VALARM
ACTION:DISPLAY
DESCRIPTION:Corteo antifascista
TRIGGER:-PT1H
END:VALARM
END:VEVENT
END:VCALENDAR
